BEGIN:VCALENDAR
VERSION:2.0
METHOD:PUBLISH
BEGIN:VEVENT
DTSTAMP:20260422T041803Z
DTSTART:20260617T203000Z
DTEND:20260617T223000Z
SUMMARY:Heritage Halton Hills Committee
END:VEVENT
END:VCALENDAR
